BEGIN:VCALENDAR
VERSION:2.0
PRODID:-//Japan Business Platform - ECPv6.6.0.2//NONSGML v1.0//EN
CALSCALE:GREGORIAN
METHOD:PUBLISH
X-WR-CALNAME:Japan Business Platform
X-ORIGINAL-URL:https://japan-business-platform.com
X-WR-CALDESC:Japan Business Platform のイベント
REFRESH-INTERVAL;VALUE=DURATION:PT1H
X-Robots-Tag:noindex
X-PUBLISHED-TTL:PT1H
BEGIN:VTIMEZONE
TZID:Asia/Tokyo
BEGIN:STANDARD
TZOFFSETFROM:+0900
TZOFFSETTO:+0900
TZNAME:JST
DTSTART:20240101T000000
END:STANDARD
END:VTIMEZONE
BEGIN:VEVENT
DTSTART;TZID=Asia/Tokyo:20240811T000000
DTEND;TZID=Asia/Tokyo:20240811T235959
DTSTAMP:20260423T032958
CREATED:20240812T035755Z
LAST-MODIFIED:20240812T043238Z
UID:603-1723334400-1723420799@japan-business-platform.com
SUMMARY:[Public Holiday]Mountain Day
DESCRIPTION:August 11\, 2024 is Mountain Day and Public Holiday in Japan.
URL:https://japan-business-platform.com/event/public-holiday-mountain-day-2024/
CATEGORIES:Public Holiday in Japan
END:VEVENT
END:VCALENDAR