BEGIN:VCALENDAR
VERSION:2.0
PRODID:-//Japan Business Platform - ECPv6.6.0.2//NONSGML v1.0//EN
CALSCALE:GREGORIAN
METHOD:PUBLISH
X-ORIGINAL-URL:https://japan-business-platform.com
X-WR-CALDESC:Japan Business Platform のイベント
REFRESH-INTERVAL;VALUE=DURATION:PT1H
X-Robots-Tag:noindex
X-PUBLISHED-TTL:PT1H
BEGIN:VTIMEZONE
TZID:Asia/Tokyo
BEGIN:STANDARD
TZOFFSETFROM:+0900
TZOFFSETTO:+0900
TZNAME:JST
DTSTART:20240101T000000
END:STANDARD
END:VTIMEZONE
BEGIN:VEVENT
DTSTART;TZID=Asia/Tokyo:20240812T000000
DTEND;TZID=Asia/Tokyo:20240812T235959
DTSTAMP:20260423T033141
CREATED:20240812T040114Z
LAST-MODIFIED:20240812T053838Z
UID:608-1723420800-1723507199@japan-business-platform.com
SUMMARY:[Public Holiday] Compensatory Holiday of Mountain Day
DESCRIPTION:August 12\, 2024 is National Holiday in Japan. Rules for Compensatory National Holiday in Japan.
URL:https://japan-business-platform.com/event/public-holiday-compensatory-holiday-of-mountain-day-2024/
CATEGORIES:Public Holiday in Japan
END:VEVENT
END:VCALENDAR