BEGIN:VCALENDAR
VERSION:2.0
PRODID:-//Japan Business Platform - ECPv6.6.0.2//NONSGML v1.0//EN
CALSCALE:GREGORIAN
METHOD:PUBLISH
X-WR-CALNAME:Japan Business Platform
X-ORIGINAL-URL:https://japan-business-platform.com
X-WR-CALDESC:Japan Business Platform のイベント
REFRESH-INTERVAL;VALUE=DURATION:PT1H
X-Robots-Tag:noindex
X-PUBLISHED-TTL:PT1H
BEGIN:VTIMEZONE
TZID:Asia/Tokyo
BEGIN:STANDARD
TZOFFSETFROM:+0900
TZOFFSETTO:+0900
TZNAME:JST
DTSTART:20250101T000000
END:STANDARD
END:VTIMEZONE
BEGIN:VEVENT
DTSTART;TZID=Asia/Tokyo:20250429T000000
DTEND;TZID=Asia/Tokyo:20250429T235959
DTSTAMP:20260420T124728
CREATED:20240812T060907Z
LAST-MODIFIED:20240812T060925Z
UID:698-1745884800-1745971199@japan-business-platform.com
SUMMARY:[Public Holiday] Showa Day - 2025
DESCRIPTION:April 29\, 2025\, is Showa Day\, a National Holiday in Japan. \n 
URL:https://japan-business-platform.com/event/public-holiday-showa-day-2025/
CATEGORIES:Public Holiday in Japan
END:VEVENT
END:VCALENDAR