BEGIN:VCALENDAR
VERSION:2.0
PRODID:-//Japan Business Platform - ECPv6.6.0.2//NONSGML v1.0//EN
CALSCALE:GREGORIAN
METHOD:PUBLISH
X-ORIGINAL-URL:https://japan-business-platform.com
X-WR-CALDESC:Japan Business Platform のイベント
REFRESH-INTERVAL;VALUE=DURATION:PT1H
X-Robots-Tag:noindex
X-PUBLISHED-TTL:PT1H
BEGIN:VTIMEZONE
TZID:Asia/Tokyo
BEGIN:STANDARD
TZOFFSETFROM:+0900
TZOFFSETTO:+0900
TZNAME:JST
DTSTART:20250101T000000
END:STANDARD
END:VTIMEZONE
BEGIN:VEVENT
DTSTART;TZID=Asia/Tokyo:20250504T000000
DTEND;TZID=Asia/Tokyo:20250504T235959
DTSTAMP:20260420T124910
CREATED:20240812T061147Z
LAST-MODIFIED:20240812T061158Z
UID:703-1746316800-1746403199@japan-business-platform.com
SUMMARY:[Public Holiday] Greenery Day - 2025
DESCRIPTION:May 4\, 2025\, is Vernal Equinox Day\, a National Holiday in Japan. \n 
URL:https://japan-business-platform.com/event/public-holiday-greenery-day-2025/
CATEGORIES:Public Holiday in Japan
END:VEVENT
END:VCALENDAR