BEGIN:VCALENDAR
VERSION:2.0
PRODID:-//Japan Business Platform - ECPv6.6.0.2//NONSGML v1.0//EN
CALSCALE:GREGORIAN
METHOD:PUBLISH
X-ORIGINAL-URL:https://japan-business-platform.com
X-WR-CALDESC:Japan Business Platform のイベント
REFRESH-INTERVAL;VALUE=DURATION:PT1H
X-Robots-Tag:noindex
X-PUBLISHED-TTL:PT1H
BEGIN:VTIMEZONE
TZID:Asia/Tokyo
BEGIN:STANDARD
TZOFFSETFROM:+0900
TZOFFSETTO:+0900
TZNAME:JST
DTSTART:20250101T000000
END:STANDARD
END:VTIMEZONE
BEGIN:VEVENT
DTSTART;TZID=Asia/Tokyo:20250506T000000
DTEND;TZID=Asia/Tokyo:20250506T235959
DTSTAMP:20260420T124933
CREATED:20240812T061344Z
LAST-MODIFIED:20240812T061345Z
UID:707-1746489600-1746575999@japan-business-platform.com
SUMMARY:[Public Holiday] Compensatory Holiday of Greenery Day - 2025
DESCRIPTION:May 6\, 2025 is National Holiday in Japan. Rules for Compensatory National Holiday in Japan.
URL:https://japan-business-platform.com/event/public-holiday-compensatory-holiday-of-greenery-day-2025/
CATEGORIES:Public Holiday in Japan
END:VEVENT
END:VCALENDAR