BEGIN:VCALENDAR
VERSION:2.0
PRODID:-//Japan Business Platform - ECPv6.6.0.2//NONSGML v1.0//EN
CALSCALE:GREGORIAN
METHOD:PUBLISH
X-WR-CALNAME:Japan Business Platform
X-ORIGINAL-URL:https://japan-business-platform.com
X-WR-CALDESC:Japan Business Platform のイベント
REFRESH-INTERVAL;VALUE=DURATION:PT1H
X-Robots-Tag:noindex
X-PUBLISHED-TTL:PT1H
BEGIN:VTIMEZONE
TZID:Asia/Tokyo
BEGIN:STANDARD
TZOFFSETFROM:+0900
TZOFFSETTO:+0900
TZNAME:JST
DTSTART:20240101T000000
END:STANDARD
END:VTIMEZONE
BEGIN:VEVENT
DTSTART;TZID=Asia/Tokyo:20240916T000000
DTEND;TZID=Asia/Tokyo:20240916T235959
DTSTAMP:20260423T000953
CREATED:20240812T040534Z
LAST-MODIFIED:20240812T053019Z
UID:610-1726444800-1726531199@japan-business-platform.com
SUMMARY:[Public Holiday] Respect for the Aged Day
DESCRIPTION:September 16\, 2024\, is Respect for the Aged Day\, a National Holiday in Japan.
URL:https://japan-business-platform.com/event/public-holiday-respect-for-the-aged-day-2024/
CATEGORIES:Public Holiday in Japan
END:VEVENT
BEGIN:VEVENT
DTSTART;TZID=Asia/Tokyo:20240922T000000
DTEND;TZID=Asia/Tokyo:20240922T235959
DTSTAMP:20260423T000953
CREATED:20240812T044709Z
LAST-MODIFIED:20240812T045100Z
UID:618-1726963200-1727049599@japan-business-platform.com
SUMMARY:[Public Holiday] Autumnal Equinox Day
DESCRIPTION:September 23\, 2024\, is Autumnal Equinox Day\, a national holiday in Japan.
URL:https://japan-business-platform.com/event/public-holidayautumnal-equinox-day/
CATEGORIES:Public Holiday in Japan
END:VEVENT
BEGIN:VEVENT
DTSTART;TZID=Asia/Tokyo:20240923T000000
DTEND;TZID=Asia/Tokyo:20240923T235959
DTSTAMP:20260423T000953
CREATED:20240812T045035Z
LAST-MODIFIED:20240812T054926Z
UID:620-1727049600-1727135999@japan-business-platform.com
SUMMARY:[Public Holiday] Compensatory Holiday of Autumnal Equinox Day
DESCRIPTION:September 23\, 2024 is Public Holiday in Japan. Rules for Compensatory National Holiday in Japan.
URL:https://japan-business-platform.com/event/public-holiday-compensatory-holiday-of-autumnal-equinox-day/
CATEGORIES:Public Holiday in Japan
END:VEVENT
END:VCALENDAR