BEGIN:VCALENDAR
VERSION:2.0
PRODID:-//Japan Business Platform - ECPv6.6.0.2//NONSGML v1.0//EN
CALSCALE:GREGORIAN
METHOD:PUBLISH
X-WR-CALNAME:Japan Business Platform
X-ORIGINAL-URL:https://japan-business-platform.com
X-WR-CALDESC:Japan Business Platform のイベント
REFRESH-INTERVAL;VALUE=DURATION:PT1H
X-Robots-Tag:noindex
X-PUBLISHED-TTL:PT1H
BEGIN:VTIMEZONE
TZID:Asia/Tokyo
BEGIN:STANDARD
TZOFFSETFROM:+0900
TZOFFSETTO:+0900
TZNAME:JST
DTSTART:20240101T000000
END:STANDARD
END:VTIMEZONE
BEGIN:VEVENT
DTSTART;TZID=Asia/Tokyo:20241103T000000
DTEND;TZID=Asia/Tokyo:20241103T235959
DTSTAMP:20260422T205947
CREATED:20240812T055513Z
LAST-MODIFIED:20240812T055515Z
UID:676-1730592000-1730678399@japan-business-platform.com
SUMMARY:[Public Holiday] Culture Day
DESCRIPTION:November 3\, 2024\, is Culture Day\, a National Holiday in Japan. \n 
URL:https://japan-business-platform.com/event/public-holiday-culture-day/
CATEGORIES:Public Holiday in Japan
END:VEVENT
BEGIN:VEVENT
DTSTART;TZID=Asia/Tokyo:20241104T000000
DTEND;TZID=Asia/Tokyo:20241104T235959
DTSTAMP:20260422T205947
CREATED:20240812T055619Z
LAST-MODIFIED:20240812T055620Z
UID:678-1730678400-1730764799@japan-business-platform.com
SUMMARY:[Public Holiday] Compensatory Holiday of Culture Day
DESCRIPTION:November 4\, 2024 is National Holiday in Japan. Rules for Compensatory National Holiday in Japan.
URL:https://japan-business-platform.com/event/public-holiday-compensatory-holiday-of-culture-day/
CATEGORIES:Public Holiday in Japan
END:VEVENT
BEGIN:VEVENT
DTSTART;TZID=Asia/Tokyo:20241123T000000
DTEND;TZID=Asia/Tokyo:20241123T235959
DTSTAMP:20260422T205947
CREATED:20240812T055743Z
LAST-MODIFIED:20240812T055745Z
UID:680-1732320000-1732406399@japan-business-platform.com
SUMMARY:[Public Holiday] Labor Thanksgiving Day
DESCRIPTION:November 23\, 2024\, is Labor Thanksgiving Day\, a National Holiday in Japan. \n 
URL:https://japan-business-platform.com/event/public-holiday-labor-thanksgiving-day/
CATEGORIES:Public Holiday in Japan
END:VEVENT
END:VCALENDAR