BEGIN:VCALENDAR
VERSION:2.0
PRODID:-//Japan Business Platform - ECPv6.6.0.2//NONSGML v1.0//EN
CALSCALE:GREGORIAN
METHOD:PUBLISH
X-WR-CALNAME:Japan Business Platform
X-ORIGINAL-URL:https://japan-business-platform.com
X-WR-CALDESC:Japan Business Platform のイベント
REFRESH-INTERVAL;VALUE=DURATION:PT1H
X-Robots-Tag:noindex
X-PUBLISHED-TTL:PT1H
BEGIN:VTIMEZONE
TZID:Asia/Tokyo
BEGIN:STANDARD
TZOFFSETFROM:+0900
TZOFFSETTO:+0900
TZNAME:JST
DTSTART:20250101T000000
END:STANDARD
END:VTIMEZONE
BEGIN:VEVENT
DTSTART;TZID=Asia/Tokyo:20250211T000000
DTEND;TZID=Asia/Tokyo:20250211T235959
DTSTAMP:20260420T160407
CREATED:20240812T060338Z
LAST-MODIFIED:20240812T060501Z
UID:688-1739232000-1739318399@japan-business-platform.com
SUMMARY:[Public Holiday] National Foundation Day - 2025
DESCRIPTION:February 11\, 2025\, is National Foundation Day\, a National Holiday in Japan. \n 
URL:https://japan-business-platform.com/event/public-holiday-national-foundation-day-2025/
CATEGORIES:Public Holiday in Japan
END:VEVENT
BEGIN:VEVENT
DTSTART;TZID=Asia/Tokyo:20250223T000000
DTEND;TZID=Asia/Tokyo:20250223T235959
DTSTAMP:20260420T160407
CREATED:20240812T060431Z
LAST-MODIFIED:20240812T060432Z
UID:690-1740268800-1740355199@japan-business-platform.com
SUMMARY:[Public Holiday] Emperor's Birthday - 2025
DESCRIPTION:February 23\, 2025\, is Emperor’s Birthday\, a National Holiday in Japan. \n 
URL:https://japan-business-platform.com/event/public-holiday-emperors-birthday-2025/
CATEGORIES:Public Holiday in Japan
END:VEVENT
BEGIN:VEVENT
DTSTART;TZID=Asia/Tokyo:20250224T000000
DTEND;TZID=Asia/Tokyo:20250224T235959
DTSTAMP:20260420T160407
CREATED:20240812T060616Z
LAST-MODIFIED:20240812T060657Z
UID:693-1740355200-1740441599@japan-business-platform.com
SUMMARY:[Public Holiday] Compensatory Holiday of Emperor's Birthday - 2025
DESCRIPTION:February 24\, 2025 is National Holiday in Japan. Rules for Compensatory National Holiday in Japan.
URL:https://japan-business-platform.com/event/public-holiday-compensatory-holiday-of-emperors-birthday-2025/
CATEGORIES:Public Holiday in Japan
END:VEVENT
END:VCALENDAR