BEGIN:VCALENDAR
VERSION:2.0
PRODID:-//Japan Business Platform - ECPv6.6.0.2//NONSGML v1.0//EN
CALSCALE:GREGORIAN
METHOD:PUBLISH
X-ORIGINAL-URL:https://japan-business-platform.com
X-WR-CALDESC:Japan Business Platform のイベント
REFRESH-INTERVAL;VALUE=DURATION:PT1H
X-Robots-Tag:noindex
X-PUBLISHED-TTL:PT1H
BEGIN:VTIMEZONE
TZID:Asia/Tokyo
BEGIN:STANDARD
TZOFFSETFROM:+0900
TZOFFSETTO:+0900
TZNAME:JST
DTSTART:20240101T000000
END:STANDARD
END:VTIMEZONE
BEGIN:VEVENT
DTSTART;TZID=Asia/Tokyo:20240828T000000
DTEND;TZID=Asia/Tokyo:20240830T235959
DTSTAMP:20260425T085611
CREATED:20240801T170339Z
LAST-MODIFIED:20240802T032747Z
UID:494-1724803200-1725062399@japan-business-platform.com
SUMMARY:Japan Jewellery Fair 2024(Tokyo)
DESCRIPTION:The Japan Jewelry Fair (JJF) is an international trade show organized in partnership between Informa Markets\, the host of the world’s largest jewelry fair\, the September Hong Kong Jewellery & Gem Fair\, and the Japan Jewellery Association. Over 300 companies from both domestic and international markets will gather under one roof for this B2B professional jewelry exhibition. \nThe Japan Jewelry Fair’s most prominent features—product displays\, event stages\, and seminars—will be presented this year with even more extensive content. With various new projects and expanded pavilions\, the appeal of the exhibition is set to reach new heights!
URL:https://japan-business-platform.com/event/japan-jewellery-fair-2024tokyo/
LOCATION:Tokyo Big Sight\, 3-11-1 Ariake\, Koto-ku\, Tokyo\, 135-0063\, Japan
END:VEVENT
END:VCALENDAR