BEGIN:VCALENDAR
VERSION:2.0
PRODID:-//Japan Business Platform - ECPv6.6.0.2//NONSGML v1.0//EN
CALSCALE:GREGORIAN
METHOD:PUBLISH
X-ORIGINAL-URL:https://japan-business-platform.com
X-WR-CALDESC:Japan Business Platform のイベント
REFRESH-INTERVAL;VALUE=DURATION:PT1H
X-Robots-Tag:noindex
X-PUBLISHED-TTL:PT1H
BEGIN:VTIMEZONE
TZID:Asia/Tokyo
BEGIN:STANDARD
TZOFFSETFROM:+0900
TZOFFSETTO:+0900
TZNAME:JST
DTSTART:20240101T000000
END:STANDARD
END:VTIMEZONE
BEGIN:VEVENT
DTSTART;TZID=Asia/Tokyo:20241016T000000
DTEND;TZID=Asia/Tokyo:20241019T235959
DTSTAMP:20260425T072418
CREATED:20240814T041452Z
LAST-MODIFIED:20240814T042902Z
UID:858-1729036800-1729382399@japan-business-platform.com
SUMMARY:Japan International Aerospace Exhibition 2024
DESCRIPTION:This exhibition is Japan’s largest general aerospace exhibition\, together with major Japanese and foreign companies\, government agencies\, embassy officials\, and industry players. Companies from a wide range of industries will exhibit\, introducing a broad range of areas such as the manufacture\, operation\, and MRO for aviation\, space\, and defense technology\, as well as new areas such as UAM and decarbonization. Participant can get a chance to see the state-of-the-art products! \n  \nTrade                     October 16th (Wed.) to 18th (Fri.)\, 2024\nTrade & Public 　October 19th (Sat.)\, 2024
URL:https://japan-business-platform.com/event/japan-international-aerospace-exhibition-2024/
LOCATION:Tokyo Big Sight\, 3-11-1 Ariake\, Koto-ku\, Tokyo\, 135-0063\, Japan
END:VEVENT
END:VCALENDAR