BEGIN:VCALENDAR
VERSION:2.0
PRODID:-//Japan Business Platform - ECPv6.6.0.2//NONSGML v1.0//EN
CALSCALE:GREGORIAN
METHOD:PUBLISH
X-ORIGINAL-URL:https://japan-business-platform.com
X-WR-CALDESC:Japan Business Platform のイベント
REFRESH-INTERVAL;VALUE=DURATION:PT1H
X-Robots-Tag:noindex
X-PUBLISHED-TTL:PT1H
BEGIN:VTIMEZONE
TZID:Asia/Tokyo
BEGIN:STANDARD
TZOFFSETFROM:+0900
TZOFFSETTO:+0900
TZNAME:JST
DTSTART:20240101T000000
END:STANDARD
END:VTIMEZONE
BEGIN:VEVENT
DTSTART;TZID=Asia/Tokyo:20241206T000000
DTEND;TZID=Asia/Tokyo:20241208T235959
DTSTAMP:20260425T044116
CREATED:20240812T083208Z
LAST-MODIFIED:20240812T083450Z
UID:739-1733443200-1733702399@japan-business-platform.com
SUMMARY:Tokyo Comic Con 2024
DESCRIPTION:Stan Lee – the father of the pop culture – created Spider-man\, IronMan\, the X-Men\, and many other fictional characters\, who was also an executive vice president and an chief editor of Marvel Comics – and\, Steve Wozniak\, called “the king of technology” is a co-founder of the Apple Computer Inc. – “The two of us hit it off so well we wanted to work together on something\, anything\, anytime we could be together\,” – this pair founded Tokyo Comic Convention. \nThe Comic Con that fuses the latest technology and the best pop culture was initially held in Silicon Valley where Woz lives.\nWith Woz’s intention to make Comic Con a truly global festival\, he decided to hold it in Tokyo\, saying\, “If that is the case\, Japan must be involved.” \nIn December 2016\, “Tokyo Comic Con 2016” was realized\, and ended with great success. \nTokyo Comic Convention – is a companion to “Silicon Valley Comic Convention”\, is based on the American style\, also as a festival of the latest technology with the best pop culture – it stands out from normal existing pop culture events\, Tokyo Comic Convention has been innovating and growing for the latest entertainments.\nThis festival is stimulating intellectual curiosity for all generations. \nTokyo Comic Convention 2024 contents to more deeply involve the fans and evolve its offerings – stay tuned for them! \nhttps://tokyocomiccon.jp/en/whatscc \n  \nFor Ticket: \nhttps://tokyocomiccon.jp/en/ticket
URL:https://japan-business-platform.com/event/tokyo-comic-con-2024/
LOCATION:Makuhari Messe\, 2-1\, Nakase\, Mihama-ku\, Chiba-city\, Chiba\, 261-8550\, Japan
END:VEVENT
END:VCALENDAR