BEGIN:VCALENDAR
VERSION:2.0
PRODID:-//Japan Business Platform - ECPv6.6.0.2//NONSGML v1.0//EN
CALSCALE:GREGORIAN
METHOD:PUBLISH
X-WR-CALNAME:Japan Business Platform
X-ORIGINAL-URL:https://japan-business-platform.com
X-WR-CALDESC:Japan Business Platform のイベント
REFRESH-INTERVAL;VALUE=DURATION:PT1H
X-Robots-Tag:noindex
X-PUBLISHED-TTL:PT1H
BEGIN:VTIMEZONE
TZID:Asia/Tokyo
BEGIN:STANDARD
TZOFFSETFROM:+0900
TZOFFSETTO:+0900
TZNAME:JST
DTSTART:20240101T000000
END:STANDARD
END:VTIMEZONE
BEGIN:VEVENT
DTSTART;TZID=Asia/Tokyo:20241229T000000
DTEND;TZID=Asia/Tokyo:20241230T235959
DTSTAMP:20260425T042119
CREATED:20240809T114956Z
LAST-MODIFIED:20240813T023639Z
UID:562-1735430400-1735603199@japan-business-platform.com
SUMMARY:Comiket – Comic Market 105 (C105) (2024 Winter Tokyo)
DESCRIPTION:Comiket\, short for Comic Market\, is a semiannual doujinshi convention held in Tokyo\, Japan. The event is organized by the Comic Market Committee and is the largest fan convention in the world. \nOverview of Comiket\n\nName: Comic Market (Comiket)\nFrequency: Twice a year (Summer and Winter)\nLocation: Tokyo Big Sight\, Tokyo\, Japan\nFocus: Sale of doujinshi (self-published works)\nOrganizers: Comic Market Committee (ComiketPC)\nFirst Event: December 21\, 1975\n\nComiket 105 (C105) Specifics\n\nDates: December 29-30\, 2024\nVenue: Tokyo Big Sight\, utilizing East\, West\, and South exhibition halls\nOperating Hours:\n\nKey Features of Comiket\n\nDoujin Marketplace: The primary focus is on the sale of doujinshi\, which are non-commercial\, self-published works. Approximately 35\,000 circles (groups or individuals) participate in selling their works.\nCosplay: A significant aspect of Comiket\, with dedicated changing rooms and cosplay areas.\nIndustry Booths: Various companies also set up booths to showcase and sell their products related to anime\, manga\, and games.\n\nAttendance and Participation\n\nTickets: Entry requires a ticket or a wristband-type participation certificate. These can be purchased in advance\, and each ticket is non-transferable and linked to the buyer’s identity.\nHealth and Safety: Given the summer heat\, attendees are advised to stay hydrated and take necessary precautions against heatstroke.\n\nTransportation\n\nNearest Stations:\n\nRinkai Line: Kokusai-Tenjijo Station (7-minute walk)\nYurikamome Line: Tokyo Big Sight Station (3-minute walk)\n\n\n\n  \nImportant Thing to Note\nAt Comiket\, there are often instances where the network becomes inaccessible. Therefore\, if you want to ensure a stable connection\, it is recommended to use eSIMs from two different Mobile Network Operators(NTT Docomo\, KDDI(au)\, Softbank). Refer: Best eSIM for Japan \n“Last time at Comiket\, I regretted not being able to contact my friends because the network (a docomo-based MVNO) was so congested. So\, I signed up for an eSIM with povo\, which is au-based\, and set up dual SIM. Fortunately\, I haven’t experienced any connectivity issues at all this time.” \n\n前回コミケであまりにネット(docomo系MVNO)に繋がらなかった影響で友達と連絡取れなくて反省したので、au系のpovoのesim契約してデュアルsimにしたらとりあえず「繋がらない」ってことは一回もなくて良かった \n— みちこ (@michiko99) August 11\, 2024 \n \nEntering from the east side at Comiket was a nightmare because there was no shade and no place to escape\, plus the internet connection was terrible. But entering from the southwest side was much more comfortable because there was a chance of finding some shade and you could even take refuge in the building. 😃 \n\nコミケ東入場は日陰ないから逃げ場所無いし、ネット繋がらないしで地獄でしかなかったけど、西南入場ワンチャン日陰あるし建物にも避難できるから全然快適😃 \n— 🐻‍❄️しろくま主任🐻‍❄️ (@sirokuma_syunin) August 12\, 2024 \n \n  \nFor Japanese Pages. \nhttps://www.comiket.co.jp/ \n  \nFor English / 简体中文 / 繁體中文 / 한국어 pages. \nhttps://www.comiket.co.jp/info-a/TAFO/C104TAFO/cmkfor.html \n  \nFor the latest information\, please refer Official Facebook or X
URL:https://japan-business-platform.com/event/comiket-comic-market-105-c105-2024-winter-tokyo/
LOCATION:Tokyo Big Sight\, 3-11-1 Ariake\, Koto-ku\, Tokyo\, 135-0063\, Japan
END:VEVENT
BEGIN:VEVENT
DTSTART;TZID=Asia/Tokyo:20241229T000000
DTEND;TZID=Asia/Tokyo:20250103T235959
DTSTAMP:20260425T042119
CREATED:20240812T063102Z
LAST-MODIFIED:20240812T063208Z
UID:727-1735430400-1735948799@japan-business-platform.com
SUMMARY:[Holiday Season] New Year’s Holiday Season 2024-2025
DESCRIPTION:New Year’s Holiday Season. Rules for Compensatory National Holiday in Japan. \nPublic servants are granted holidays from December 29th to January 3rd by law.
URL:https://japan-business-platform.com/event/new-years-holiday-season-2024-2025/
LOCATION:Chiba
CATEGORIES:Public Holiday in Japan
END:VEVENT
END:VCALENDAR