BEGIN:VCALENDAR
VERSION:2.0
PRODID:-//Japan Business Platform - ECPv6.6.0.2//NONSGML v1.0//EN
CALSCALE:GREGORIAN
METHOD:PUBLISH
X-ORIGINAL-URL:https://japan-business-platform.com
X-WR-CALDESC:Japan Business Platform のイベント
REFRESH-INTERVAL;VALUE=DURATION:PT1H
X-Robots-Tag:noindex
X-PUBLISHED-TTL:PT1H
BEGIN:VTIMEZONE
TZID:Asia/Tokyo
BEGIN:STANDARD
TZOFFSETFROM:+0900
TZOFFSETTO:+0900
TZNAME:JST
DTSTART:20250101T000000
END:STANDARD
END:VTIMEZONE
BEGIN:VEVENT
DTSTART;TZID=Asia/Tokyo:20250115T000000
DTEND;TZID=Asia/Tokyo:20250118T235959
DTSTAMP:20260425T025913
CREATED:20240802T033115Z
LAST-MODIFIED:20240802T033234Z
UID:497-1736899200-1737244799@japan-business-platform.com
SUMMARY:36th  International Jewellery Tokyo(IJT) 2025
DESCRIPTION:International Jewellery Tokyo (IJT) is an event held in January that brings together a wide variety of jewelry and accessories\, making it Japan’s largest jewelry festival! \nFrom high-end jewelry and light jewelry to minerals\, loose gemstones\, and materials and parts needed for handmade creations\, \nyou can ‘see\, compare\, and purchase at special prices’ at this event. \nExhibitors include jewelry wholesalers and manufacturers\, attracting buyers from Japan\, China\, and other Asian countries\, as well as individuals interested in the jewelry business\, those looking to enter the market\, and handmade artists seeking to procure supplies or introduce their brands.
URL:https://japan-business-platform.com/event/36th-international-jewellery-tokyo-ijt-2025/
LOCATION:Tokyo Big Sight\, 3-11-1 Ariake\, Koto-ku\, Tokyo\, 135-0063\, Japan
END:VEVENT
END:VCALENDAR