BEGIN:VCALENDAR
VERSION:2.0
PRODID:-//Japan Business Platform - ECPv6.6.0.2//NONSGML v1.0//EN
CALSCALE:GREGORIAN
METHOD:PUBLISH
X-WR-CALNAME:Japan Business Platform
X-ORIGINAL-URL:https://japan-business-platform.com
X-WR-CALDESC:Japan Business Platform のイベント
REFRESH-INTERVAL;VALUE=DURATION:PT1H
X-Robots-Tag:noindex
X-PUBLISHED-TTL:PT1H
BEGIN:VTIMEZONE
TZID:Asia/Tokyo
BEGIN:STANDARD
TZOFFSETFROM:+0900
TZOFFSETTO:+0900
TZNAME:JST
DTSTART:20250101T000000
END:STANDARD
END:VTIMEZONE
BEGIN:VEVENT
DTSTART;TZID=Asia/Tokyo:20250129T000000
DTEND;TZID=Asia/Tokyo:20250131T235959
DTSTAMP:20260425T012931
CREATED:20240723T011252Z
LAST-MODIFIED:20240723T011252Z
UID:148-1738108800-1738367999@japan-business-platform.com
SUMMARY:Marketing / Sales World -2025 Spring- (Tokyo)
DESCRIPTION:This comprehensive exhibition brings together services and solutions for front-office departments such as marketing and sales. At this event\, professionals responsible for marketing\, sales promotion\, advertising\, sales\, customer support (CS)\, customer experience (CX)\, and e-commerce (EC) from companies looking to improve efficiency and productivity can compare and evaluate the latest products and services. They can also learn about the latest trends through seminars conducted by distinguished speakers.
URL:https://japan-business-platform.com/event/marketing-sales-world-2025-spring-tokyo/
LOCATION:Tokyo Big Sight\, 3-11-1 Ariake\, Koto-ku\, Tokyo\, 135-0063\, Japan
CATEGORIES:Marketing
END:VEVENT
END:VCALENDAR