BEGIN:VCALENDAR
VERSION:2.0
PRODID:-//Japan Business Platform - ECPv6.6.0.2//NONSGML v1.0//EN
CALSCALE:GREGORIAN
METHOD:PUBLISH
X-ORIGINAL-URL:https://japan-business-platform.com
X-WR-CALDESC:Japan Business Platform のイベント
REFRESH-INTERVAL;VALUE=DURATION:PT1H
X-Robots-Tag:noindex
X-PUBLISHED-TTL:PT1H
BEGIN:VTIMEZONE
TZID:Asia/Tokyo
BEGIN:STANDARD
TZOFFSETFROM:+0900
TZOFFSETTO:+0900
TZNAME:JST
DTSTART:20250101T000000
END:STANDARD
END:VTIMEZONE
BEGIN:VEVENT
DTSTART;TZID=Asia/Tokyo:20250226T000000
DTEND;TZID=Asia/Tokyo:20250228T235959
DTSTAMP:20260425T002721
CREATED:20240723T010943Z
LAST-MODIFIED:20240723T010943Z
UID:143-1740528000-1740787199@japan-business-platform.com
SUMMARY:Japan Web3 Week -2025- (Tokyo)
DESCRIPTION:This is a specialized exhibition aimed at promoting DX (Digital Transformation) through Web3 technologies\, including blockchain\, NFTs\, and digital currencies. With the Japanese government’s Web3 policies as a backdrop\, it is expected that more and more major domestic and international companies will enter this field. To enhance international competitiveness and expedite the spread of Web3-related businesses\, we are holding this exhibition. \nIt will be held at the same venue as the “DX Comprehensive EXPO\,” Japan’s largest specialized exhibition for DX\, providing a comprehensive solution to DX challenges in management\, back office\, and front office. Additionally\, to ensure that exhibitors and visitors can participate with confidence\, the event focuses on the social implementation of Web3. Therefore\, companies and projects that do not meet strict criteria will be declined after rigorous screening.
URL:https://japan-business-platform.com/event/japan-web3-week-2025-tokyo/
LOCATION:Makuhari Messe\, 2-1\, Nakase\, Mihama-ku\, Chiba-city\, Chiba\, 261-8550\, Japan
CATEGORIES:Technology
END:VEVENT
END:VCALENDAR