BEGIN:VCALENDAR
VERSION:2.0
PRODID:-//Japan Business Platform - ECPv6.6.0.2//NONSGML v1.0//EN
CALSCALE:GREGORIAN
METHOD:PUBLISH
X-ORIGINAL-URL:https://japan-business-platform.com
X-WR-CALDESC:Japan Business Platform のイベント
REFRESH-INTERVAL;VALUE=DURATION:PT1H
X-Robots-Tag:noindex
X-PUBLISHED-TTL:PT1H
BEGIN:VTIMEZONE
TZID:Asia/Tokyo
BEGIN:STANDARD
TZOFFSETFROM:+0900
TZOFFSETTO:+0900
TZNAME:JST
DTSTART:20250101T000000
END:STANDARD
END:VTIMEZONE
BEGIN:VEVENT
DTSTART;TZID=Asia/Tokyo:20250311T000000
DTEND;TZID=Asia/Tokyo:20250314T235959
DTSTAMP:20260425T002721
CREATED:20240727T025128Z
LAST-MODIFIED:20240727T025158Z
UID:307-1741651200-1741996799@japan-business-platform.com
SUMMARY:FOODEX JAPAN 2025(Tokyo)
DESCRIPTION:“FOODEX JAPAN / International Food and Beverage Exhibition” is the largest food and beverage exhibition in Asia. This exhibition\, held annually since 1976\, will mark its 50th edition in 2025. It is highly regarded by all stakeholders as an excellent platform for expanding business for both exhibitors and visitors.
URL:https://japan-business-platform.com/event/foodex-japan-2025-tokyo/
LOCATION:Tokyo Big Sight\, 3-11-1 Ariake\, Koto-ku\, Tokyo\, 135-0063\, Japan
CATEGORIES:Food and Beverage
END:VEVENT
END:VCALENDAR