BEGIN:VCALENDAR
VERSION:2.0
PRODID:-//Japan Business Platform - ECPv6.6.0.2//NONSGML v1.0//EN
CALSCALE:GREGORIAN
METHOD:PUBLISH
X-ORIGINAL-URL:https://japan-business-platform.com
X-WR-CALDESC:Japan Business Platform のイベント
REFRESH-INTERVAL;VALUE=DURATION:PT1H
X-Robots-Tag:noindex
X-PUBLISHED-TTL:PT1H
BEGIN:VTIMEZONE
TZID:Asia/Tokyo
BEGIN:STANDARD
TZOFFSETFROM:+0900
TZOFFSETTO:+0900
TZNAME:JST
DTSTART:20250101T000000
END:STANDARD
END:VTIMEZONE
BEGIN:VEVENT
DTSTART;TZID=Asia/Tokyo:20250413T000000
DTEND;TZID=Asia/Tokyo:20251013T235959
DTSTAMP:20260424T183305
CREATED:20240812T084141Z
LAST-MODIFIED:20240812T084538Z
UID:744-1744502400-1760399999@japan-business-platform.com
SUMMARY:Expo 2025 (Osaka\, Japan)
DESCRIPTION:The Osaka-Kansai Expo 2025\, officially known as Expo 2025 Osaka\, Kansai\, Japan\, is poised to be a groundbreaking event that will unite nations\, organizations\, and individuals from across the globe. Set to occur from April 13 to October 13\, 2025\, this international exposition will take place on the artificial island of Yumeshima in Osaka Bay\, within Osaka’s Konohana Ward. \n  \nExpo 2025 (Osaka\, Japan) Official Website: https://www.expo2025.or.jp/en/ \nFor Buying Tickets: https://ticket.expo2025.or.jp/en/ \nAbout Osaka Expo 2025: A Comprehensive Overview
URL:https://japan-business-platform.com/event/expo-2025-osaka-japan/
LOCATION:Yumeshima\, Yumeshima\, Konohana\, Osaka\, Osaka\, 554-0000\, Japan
END:VEVENT
BEGIN:VEVENT
DTSTART;TZID=Asia/Tokyo:20250709T000000
DTEND;TZID=Asia/Tokyo:20250711T235959
DTSTAMP:20260424T183305
CREATED:20240727T024251Z
LAST-MODIFIED:20240727T024251Z
UID:305-1752019200-1752278399@japan-business-platform.com
SUMMARY:Japan Food Export EXPO Vol.10 2025 (Tokyo)
DESCRIPTION:The “Japan Food Export EXPO” is an exhibition where a wide range of “Japanese foods\,” from agricultural and livestock products to seafood\, beverages\, seasonings\, and processed foods\, are showcased to the world. It attracts overseas buyers from 80 countries as well as domestic export traders. This exhibition provides an opportunity to negotiate directly with overseas buyers while in Japan\, aiming to develop overseas sales channels. Starting from 2024\, the event will be held twice a year\, with an additional session in November. \n[Organizer] RX Japan Co.\, Ltd. \n[Co-organizer] Japan External Trade Organization (JETRO) (planned) \n[Support] Ministry of Agriculture\, Forestry and Fisheries (planned) \n[Support] Ministry of Economy\, Trade and Industry (planned)
URL:https://japan-business-platform.com/event/japan-food-export-expo-vol-10-2025-tokyo/
LOCATION:Tokyo Big Sight\, 3-11-1 Ariake\, Koto-ku\, Tokyo\, 135-0063\, Japan
CATEGORIES:Food and Beverage
END:VEVENT
END:VCALENDAR