BEGIN:VCALENDAR
VERSION:2.0
PRODID:-//Japan Business Platform - ECPv6.6.0.2//NONSGML v1.0//EN
CALSCALE:GREGORIAN
METHOD:PUBLISH
X-ORIGINAL-URL:https://japan-business-platform.com
X-WR-CALDESC:Japan Business Platform のイベント
REFRESH-INTERVAL;VALUE=DURATION:PT1H
X-Robots-Tag:noindex
X-PUBLISHED-TTL:PT1H
BEGIN:VTIMEZONE
TZID:Asia/Tokyo
BEGIN:STANDARD
TZOFFSETFROM:+0900
TZOFFSETTO:+0900
TZNAME:JST
DTSTART:20250101T000000
END:STANDARD
END:VTIMEZONE
BEGIN:VEVENT
DTSTART;TZID=Asia/Tokyo:20251123T000000
DTEND;TZID=Asia/Tokyo:20251123T235959
DTSTAMP:20260424T131545
CREATED:20240812T062127Z
LAST-MODIFIED:20240812T062129Z
UID:721-1763856000-1763942399@japan-business-platform.com
SUMMARY:[Public Holiday] Labor Thanksgiving Day - 2025
DESCRIPTION:November 23\, 2025\, is Labor Thanksgiving Day\, a National Holiday in Japan. \n 
URL:https://japan-business-platform.com/event/public-holiday-labor-thanksgiving-day-2025/
LOCATION:Chiba
CATEGORIES:Public Holiday in Japan
END:VEVENT
END:VCALENDAR